BEGIN:VCALENDAR
VERSION:2.0
PRODID:-//Carlo Sports - ECPv6.15.16.1//NONSGML v1.0//EN
CALSCALE:GREGORIAN
METHOD:PUBLISH
X-ORIGINAL-URL:https://carlosportsclub.com.au
X-WR-CALDESC:Events for Carlo Sports
REFRESH-INTERVAL;VALUE=DURATION:PT1H
X-Robots-Tag:noindex
X-PUBLISHED-TTL:PT1H
BEGIN:VTIMEZONE
TZID:UTC
BEGIN:STANDARD
TZOFFSETFROM:+0000
TZOFFSETTO:+0000
TZNAME:UTC
DTSTART:20230101T000000
END:STANDARD
END:VTIMEZONE
BEGIN:VTIMEZONE
TZID:Australia/Melbourne
BEGIN:STANDARD
TZOFFSETFROM:+1100
TZOFFSETTO:+1000
TZNAME:AEST
DTSTART:20230401T160000
END:STANDARD
BEGIN:DAYLIGHT
TZOFFSETFROM:+1000
TZOFFSETTO:+1100
TZNAME:AEDT
DTSTART:20230930T160000
END:DAYLIGHT
BEGIN:STANDARD
TZOFFSETFROM:+1100
TZOFFSETTO:+1000
TZNAME:AEST
DTSTART:20240406T160000
END:STANDARD
BEGIN:DAYLIGHT
TZOFFSETFROM:+1000
TZOFFSETTO:+1100
TZNAME:AEDT
DTSTART:20241005T160000
END:DAYLIGHT
BEGIN:STANDARD
TZOFFSETFROM:+1100
TZOFFSETTO:+1000
TZNAME:AEST
DTSTART:20250405T160000
END:STANDARD
BEGIN:DAYLIGHT
TZOFFSETFROM:+1000
TZOFFSETTO:+1100
TZNAME:AEDT
DTSTART:20251004T160000
END:DAYLIGHT
END:VTIMEZONE
BEGIN:VEVENT
DTSTART;TZID=UTC:20240413T190000
DTEND;TZID=UTC:20240413T220000
DTSTAMP:20260420T031545
CREATED:20230214T043624Z
LAST-MODIFIED:20240405T044234Z
UID:20082-1713034800-1713045600@carlosportsclub.com.au
SUMMARY:The Rocker Covers
DESCRIPTION:
URL:https://carlosportsclub.com.au/event/the-rocker-covers-3/
CATEGORIES:What's On
ATTACH;FMTTYPE=image/jpeg:https://carlosportsclub.com.au/wp-content/uploads/2023/02/Saturday-Entertainment-13th-April-The-Rocker-Covers-A4-Carlingford-Bowling-Club_page-0001.jpg
END:VEVENT
BEGIN:VEVENT
DTSTART;TZID=Australia/Melbourne:20240414T130000
DTEND;TZID=Australia/Melbourne:20240414T163000
DTSTAMP:20260420T031545
CREATED:20240410T022905Z
LAST-MODIFIED:20240410T022905Z
UID:22151-1713099600-1713112200@carlosportsclub.com.au
SUMMARY:Queeny Stafford
DESCRIPTION:
URL:https://carlosportsclub.com.au/event/queeny-stafford/
CATEGORIES:What's On
ATTACH;FMTTYPE=image/jpeg:https://carlosportsclub.com.au/wp-content/uploads/2024/04/Queeny-Stafford-Sunday-Entertainment-EDM-Carlo-Sports-Club.jpg
END:VEVENT
BEGIN:VEVENT
DTSTART;TZID=Australia/Melbourne:20240425T100000
DTEND;TZID=Australia/Melbourne:20240425T150000
DTSTAMP:20260420T031545
CREATED:20230405T055755Z
LAST-MODIFIED:20231227T042409Z
UID:20339-1714039200-1714057200@carlosportsclub.com.au
SUMMARY:Anzac Day
DESCRIPTION:
URL:https://carlosportsclub.com.au/event/anzac-day-2/
CATEGORIES:What's On
ATTACH;FMTTYPE=image/jpeg:https://carlosportsclub.com.au/wp-content/uploads/2023/04/Anzac-Day-Service-Facebook-Carlingford-Bowling-Club.jpg
END:VEVENT
END:VCALENDAR