BEGIN:VCALENDAR
VERSION:2.0
PRODID:-//Carlo Sports - ECPv6.15.16.1//NONSGML v1.0//EN
CALSCALE:GREGORIAN
METHOD:PUBLISH
X-WR-CALNAME:Carlo Sports
X-ORIGINAL-URL:https://carlosportsclub.com.au
X-WR-CALDESC:Events for Carlo Sports
REFRESH-INTERVAL;VALUE=DURATION:PT1H
X-Robots-Tag:noindex
X-PUBLISHED-TTL:PT1H
BEGIN:VTIMEZONE
TZID:UTC
BEGIN:STANDARD
TZOFFSETFROM:+0000
TZOFFSETTO:+0000
TZNAME:UTC
DTSTART:20230101T000000
END:STANDARD
END:VTIMEZONE
BEGIN:VTIMEZONE
TZID:Australia/Melbourne
BEGIN:STANDARD
TZOFFSETFROM:+1100
TZOFFSETTO:+1000
TZNAME:AEST
DTSTART:20230401T160000
END:STANDARD
BEGIN:DAYLIGHT
TZOFFSETFROM:+1000
TZOFFSETTO:+1100
TZNAME:AEDT
DTSTART:20230930T160000
END:DAYLIGHT
BEGIN:STANDARD
TZOFFSETFROM:+1100
TZOFFSETTO:+1000
TZNAME:AEST
DTSTART:20240406T160000
END:STANDARD
BEGIN:DAYLIGHT
TZOFFSETFROM:+1000
TZOFFSETTO:+1100
TZNAME:AEDT
DTSTART:20241005T160000
END:DAYLIGHT
BEGIN:STANDARD
TZOFFSETFROM:+1100
TZOFFSETTO:+1000
TZNAME:AEST
DTSTART:20250405T160000
END:STANDARD
BEGIN:DAYLIGHT
TZOFFSETFROM:+1000
TZOFFSETTO:+1100
TZNAME:AEDT
DTSTART:20251004T160000
END:DAYLIGHT
BEGIN:STANDARD
TZOFFSETFROM:+1100
TZOFFSETTO:+1000
TZNAME:AEST
DTSTART:20260404T160000
END:STANDARD
BEGIN:DAYLIGHT
TZOFFSETFROM:+1000
TZOFFSETTO:+1100
TZNAME:AEDT
DTSTART:20261003T160000
END:DAYLIGHT
END:VTIMEZONE
BEGIN:VEVENT
DTSTART;TZID=UTC:20240413T190000
DTEND;TZID=UTC:20240413T220000
DTSTAMP:20260420T050305
CREATED:20230214T043624Z
LAST-MODIFIED:20240405T044234Z
UID:20082-1713034800-1713045600@carlosportsclub.com.au
SUMMARY:The Rocker Covers
DESCRIPTION:
URL:https://carlosportsclub.com.au/event/the-rocker-covers-3/
CATEGORIES:What's On
ATTACH;FMTTYPE=image/jpeg:https://carlosportsclub.com.au/wp-content/uploads/2023/02/Saturday-Entertainment-13th-April-The-Rocker-Covers-A4-Carlingford-Bowling-Club_page-0001.jpg
END:VEVENT
BEGIN:VEVENT
DTSTART;TZID=Australia/Melbourne:20240414T130000
DTEND;TZID=Australia/Melbourne:20240414T163000
DTSTAMP:20260420T050305
CREATED:20240410T022905Z
LAST-MODIFIED:20240410T022905Z
UID:22151-1713099600-1713112200@carlosportsclub.com.au
SUMMARY:Queeny Stafford
DESCRIPTION:
URL:https://carlosportsclub.com.au/event/queeny-stafford/
CATEGORIES:What's On
ATTACH;FMTTYPE=image/jpeg:https://carlosportsclub.com.au/wp-content/uploads/2024/04/Queeny-Stafford-Sunday-Entertainment-EDM-Carlo-Sports-Club.jpg
END:VEVENT
BEGIN:VEVENT
DTSTART;TZID=Australia/Melbourne:20240425T100000
DTEND;TZID=Australia/Melbourne:20240425T150000
DTSTAMP:20260420T050305
CREATED:20230405T055755Z
LAST-MODIFIED:20231227T042409Z
UID:20339-1714039200-1714057200@carlosportsclub.com.au
SUMMARY:Anzac Day
DESCRIPTION:
URL:https://carlosportsclub.com.au/event/anzac-day-2/
CATEGORIES:What's On
ATTACH;FMTTYPE=image/jpeg:https://carlosportsclub.com.au/wp-content/uploads/2023/04/Anzac-Day-Service-Facebook-Carlingford-Bowling-Club.jpg
END:VEVENT
BEGIN:VEVENT
DTSTART;TZID=Australia/Melbourne:20240505T130000
DTEND;TZID=Australia/Melbourne:20240505T163000
DTSTAMP:20260420T050305
CREATED:20240429T035820Z
LAST-MODIFIED:20240429T035820Z
UID:22234-1714914000-1714926600@carlosportsclub.com.au
SUMMARY:Ashlea Schuberg
DESCRIPTION:
URL:https://carlosportsclub.com.au/event/ashlea-schuberg/
CATEGORIES:What's On
ATTACH;FMTTYPE=image/jpeg:https://carlosportsclub.com.au/wp-content/uploads/2024/04/Sunday-Entertainment-5th-May-Ashlea-Schuberg-EDM-Carlingford-Bowling-Club.jpg
END:VEVENT
BEGIN:VEVENT
DTSTART;TZID=Australia/Melbourne:20240605T193000
DTEND;TZID=Australia/Melbourne:20240605T193000
DTSTAMP:20260420T050305
CREATED:20240528T224246Z
LAST-MODIFIED:20240611T011113Z
UID:22345-1717615800-1717615800@carlosportsclub.com.au
SUMMARY:State of Origin
DESCRIPTION:
URL:https://carlosportsclub.com.au/event/state-of-origin/2024-06-05/
CATEGORIES:What's On
ATTACH;FMTTYPE=image/jpeg:https://carlosportsclub.com.au/wp-content/uploads/2024/05/State-of-Origin-Generic-TVL-Carlingford-Bowling-Club-2-1.jpg
END:VEVENT
BEGIN:VEVENT
DTSTART;TZID=UTC:20240613T190000
DTEND;TZID=UTC:20240613T190000
DTSTAMP:20260420T050305
CREATED:20220215T193337Z
LAST-MODIFIED:20240611T224325Z
UID:1963-1718305200-1718305200@carlosportsclub.com.au
SUMMARY:Trivia Night
DESCRIPTION:FREE \nTrivia @ Carlingford every Thursday night. \n 
URL:https://carlosportsclub.com.au/event/trivia-night/2024-06-13/
CATEGORIES:What's On
ATTACH;FMTTYPE=image/jpeg:https://carlosportsclub.com.au/wp-content/uploads/2022/02/Trivia-Thursday-Night-TV-Carlingford-Sports-1.jpg
END:VEVENT
BEGIN:VEVENT
DTSTART;TZID=UTC:20240614T180000
DTEND;TZID=UTC:20240614T180000
DTSTAMP:20260420T050305
CREATED:20220303T121534Z
LAST-MODIFIED:20240612T000220Z
UID:2138-1718388000-1718388000@carlosportsclub.com.au
SUMMARY:Courtesy Bus
DESCRIPTION:
URL:https://carlosportsclub.com.au/event/courtesy-bus/2024-06-14/
CATEGORIES:What's On
ATTACH;FMTTYPE=image/jpeg:https://carlosportsclub.com.au/wp-content/uploads/2022/03/Courtesy-Bus-TVL-Carlo-Sports-1.jpg
END:VEVENT
BEGIN:VEVENT
DTSTART;TZID=Australia/Melbourne:20240616T130000
DTEND;TZID=Australia/Melbourne:20240616T163000
DTSTAMP:20260420T050305
CREATED:20240527T003537Z
LAST-MODIFIED:20240611T011557Z
UID:22333-1718542800-1718555400@carlosportsclub.com.au
SUMMARY:Pete Vesperma
DESCRIPTION:
URL:https://carlosportsclub.com.au/event/pete-vesperma/
CATEGORIES:What's On
ATTACH;FMTTYPE=image/jpeg:https://carlosportsclub.com.au/wp-content/uploads/2024/05/Sunday-Entertainment-Pete-Vesperman-TVL-Carlo-Sports-Club-1.jpg
END:VEVENT
BEGIN:VEVENT
DTSTART;TZID=Australia/Melbourne:20240622T190000
DTEND;TZID=Australia/Melbourne:20240622T220000
DTSTAMP:20260420T050305
CREATED:20240531T000125Z
LAST-MODIFIED:20240531T000452Z
UID:22379-1719082800-1719093600@carlosportsclub.com.au
SUMMARY:KG Company Duo
DESCRIPTION:
URL:https://carlosportsclub.com.au/event/kg-company-duo/
CATEGORIES:What's On
ATTACH;FMTTYPE=image/jpeg:https://carlosportsclub.com.au/wp-content/uploads/2024/05/Saturday-Entertainment-KG-Company-Duo-TVL-Carlo-Sports-Club.jpg
END:VEVENT
BEGIN:VEVENT
DTSTART;TZID=Australia/Melbourne:20240629T130000
DTEND;TZID=Australia/Melbourne:20240629T163000
DTSTAMP:20260420T050305
CREATED:20240228T012414Z
LAST-MODIFIED:20250507T012524Z
UID:21993-1719666000-1719678600@carlosportsclub.com.au
SUMMARY:Rob Escott
DESCRIPTION:
URL:https://carlosportsclub.com.au/event/rob-escott/
CATEGORIES:What's On
ATTACH;FMTTYPE=image/jpeg:https://carlosportsclub.com.au/wp-content/uploads/2024/02/29th-June-Sunday-Free-Live-Entertaiment-TVL-Carlingford-Bowling-Club-2.jpg
END:VEVENT
BEGIN:VEVENT
DTSTART;TZID=Australia/Melbourne:20240713T190000
DTEND;TZID=Australia/Melbourne:20240713T220000
DTSTAMP:20260420T050305
CREATED:20230728T004447Z
LAST-MODIFIED:20240628T053648Z
UID:20952-1720897200-1720908000@carlosportsclub.com.au
SUMMARY:Us Too Duo
DESCRIPTION:
URL:https://carlosportsclub.com.au/event/us-too-duo-2/
CATEGORIES:What's On
ATTACH;FMTTYPE=image/jpeg:https://carlosportsclub.com.au/wp-content/uploads/2023/07/13th-July-Saturday-Entertainment-Us-Too-Duo-TVL-Carlingford-Bowling-Club-1.jpg
END:VEVENT
BEGIN:VEVENT
DTSTART;TZID=Australia/Melbourne:20240727T130000
DTEND;TZID=Australia/Melbourne:20240727T163000
DTSTAMP:20260420T050305
CREATED:20230823T051616Z
LAST-MODIFIED:20250617T012028Z
UID:21102-1722085200-1722097800@carlosportsclub.com.au
SUMMARY:Aaron James
DESCRIPTION:
URL:https://carlosportsclub.com.au/event/aaron-james/
CATEGORIES:What's On
ATTACH;FMTTYPE=image/jpeg:https://carlosportsclub.com.au/wp-content/uploads/2023/08/27th-July-Sunday-Free-Live-Entertaiment-Aaron-James-TVL-Carlingford-Bowling-Club.jpg
END:VEVENT
BEGIN:VEVENT
DTSTART;TZID=Australia/Melbourne:20240810T190000
DTEND;TZID=Australia/Melbourne:20240810T220000
DTSTAMP:20260420T050305
CREATED:20240805T222320Z
LAST-MODIFIED:20240805T222320Z
UID:22644-1723316400-1723327200@carlosportsclub.com.au
SUMMARY:Diamond Duo
DESCRIPTION:
URL:https://carlosportsclub.com.au/event/diamond-duo/
CATEGORIES:What's On
ATTACH;FMTTYPE=image/jpeg:https://carlosportsclub.com.au/wp-content/uploads/2024/08/Saturday-Entertainment-Diamond-Duo-TVL-Carlingford-Bowling-Club-1.jpg
END:VEVENT
BEGIN:VEVENT
DTSTART;TZID=Australia/Melbourne:20240825T130000
DTEND;TZID=Australia/Melbourne:20240825T163000
DTSTAMP:20260420T050305
CREATED:20240405T043143Z
LAST-MODIFIED:20240802T002944Z
UID:22130-1724590800-1724603400@carlosportsclub.com.au
SUMMARY:Vanessa Heinitz
DESCRIPTION:
URL:https://carlosportsclub.com.au/event/vanessa-heinitz/
CATEGORIES:What's On
ATTACH;FMTTYPE=image/jpeg:https://carlosportsclub.com.au/wp-content/uploads/2024/04/Sunday-Entertainment-25th-August-Vanessa-Heinitz-TVL-Carlingford-Bowling-Club-1.jpg
END:VEVENT
BEGIN:VEVENT
DTSTART;TZID=Australia/Melbourne:20240828T190000
DTEND;TZID=Australia/Melbourne:20240828T190000
DTSTAMP:20260420T050305
CREATED:20240814T101203Z
LAST-MODIFIED:20240814T101438Z
UID:22706-1724871600-1724871600@carlosportsclub.com.au
SUMMARY:Tszyu v Mazoudier
DESCRIPTION:
URL:https://carlosportsclub.com.au/event/tszyu-v-mazoudier/
CATEGORIES:What's On
ATTACH;FMTTYPE=image/jpeg:https://carlosportsclub.com.au/wp-content/uploads/2022/02/Nikita-Tszyu-v-Koen-Mazoudier_Venue_800x600.jpg
END:VEVENT
BEGIN:VEVENT
DTSTART;TZID=Australia/Melbourne:20240828T190000
DTEND;TZID=Australia/Melbourne:20240828T190000
DTSTAMP:20260420T050305
CREATED:20240826T011439Z
LAST-MODIFIED:20240826T011439Z
UID:22752-1724871600-1724871600@carlosportsclub.com.au
SUMMARY:Tszyu v Mazoudier
DESCRIPTION:
URL:https://carlosportsclub.com.au/event/tszyu-v-mazoudier-2/
CATEGORIES:What's On
ATTACH;FMTTYPE=image/jpeg:https://carlosportsclub.com.au/wp-content/uploads/2024/08/Nikita-Tszyu-v-Koen-Mazoudier_Venue_800x600.jpg
END:VEVENT
BEGIN:VEVENT
DTSTART;TZID=Australia/Melbourne:20240901T130000
DTEND;TZID=Australia/Melbourne:20240901T163000
DTSTAMP:20260420T050305
CREATED:20240815T235625Z
LAST-MODIFIED:20240815T235625Z
UID:22710-1725195600-1725208200@carlosportsclub.com.au
SUMMARY:Vito Celestino
DESCRIPTION:
URL:https://carlosportsclub.com.au/event/vito-celestino/
CATEGORIES:What's On
ATTACH;FMTTYPE=image/jpeg:https://carlosportsclub.com.au/wp-content/uploads/2024/08/Sunday-1st-September-Entertainment-French-Deception-TVL-Carlo-Sports-2.jpg
END:VEVENT
BEGIN:VEVENT
DTSTART;TZID=Australia/Melbourne:20240915T130000
DTEND;TZID=Australia/Melbourne:20240915T163000
DTSTAMP:20260420T050305
CREATED:20240819T234704Z
LAST-MODIFIED:20240819T234704Z
UID:22723-1726405200-1726417800@carlosportsclub.com.au
SUMMARY:Chris Keryako
DESCRIPTION:
URL:https://carlosportsclub.com.au/event/chris-keryako/
CATEGORIES:What's On
ATTACH;FMTTYPE=image/jpeg:https://carlosportsclub.com.au/wp-content/uploads/2024/08/Sunday-15th-September-Entertainment-Chris-Keryako-TVL-Carlo-Sports-1.jpg
END:VEVENT
BEGIN:VEVENT
DTSTART;TZID=UTC:20241006T133000
DTEND;TZID=UTC:20241006T143000
DTSTAMP:20260420T050305
CREATED:20220317T023200Z
LAST-MODIFIED:20240930T045849Z
UID:2446-1728221400-1728225000@carlosportsclub.com.au
SUMMARY:Sunday Raffle
DESCRIPTION:
URL:https://carlosportsclub.com.au/event/monster-raffle/2024-10-06/
CATEGORIES:What's On
ATTACH;FMTTYPE=image/jpeg:https://carlosportsclub.com.au/wp-content/uploads/2022/03/Sunday-Afternoon-Raffle-TVL-Carlingford-Bowling-Club-1.jpg
END:VEVENT
BEGIN:VEVENT
DTSTART;TZID=Australia/Melbourne:20241006T153000
DTEND;TZID=Australia/Melbourne:20241006T193000
DTSTAMP:20260420T050305
CREATED:20241002T221431Z
LAST-MODIFIED:20241002T221431Z
UID:22873-1728228600-1728243000@carlosportsclub.com.au
SUMMARY:2024 NRLW and NRL
DESCRIPTION:
URL:https://carlosportsclub.com.au/event/2024-nrlw-and-nrl/
CATEGORIES:What's On
ATTACH;FMTTYPE=image/jpeg:https://carlosportsclub.com.au/wp-content/uploads/2024/10/NRLW-and-NRL-Grand-Final-TVL-Carlo-Sports-1.jpg
END:VEVENT
BEGIN:VEVENT
DTSTART;TZID=Australia/Melbourne:20241012T190000
DTEND;TZID=Australia/Melbourne:20241012T220000
DTSTAMP:20260420T050305
CREATED:20240927T005106Z
LAST-MODIFIED:20240927T005208Z
UID:22848-1728759600-1728770400@carlosportsclub.com.au
SUMMARY:Time Out Duo
DESCRIPTION:
URL:https://carlosportsclub.com.au/event/time-out-duo/
CATEGORIES:What's On
ATTACH;FMTTYPE=image/jpeg:https://carlosportsclub.com.au/wp-content/uploads/2024/09/12-October-Saturday-Entertainment-Time-Out-Duo-TVL-Carlo-Sports-1.jpg
END:VEVENT
BEGIN:VEVENT
DTSTART;TZID=Australia/Melbourne:20241109T190000
DTEND;TZID=Australia/Melbourne:20241109T220000
DTSTAMP:20260420T050305
CREATED:20241107T005839Z
LAST-MODIFIED:20241107T005911Z
UID:23010-1731178800-1731189600@carlosportsclub.com.au
SUMMARY:Mule Train Duo
DESCRIPTION:
URL:https://carlosportsclub.com.au/event/mule-train-duo/
CATEGORIES:What's On
ATTACH;FMTTYPE=image/jpeg:https://carlosportsclub.com.au/wp-content/uploads/2024/11/9-November-Saturday-Entertainment-Mule-Train-Duo-TVL-Carlingford-Bowling-Club-1.jpg
END:VEVENT
BEGIN:VEVENT
DTSTART;TZID=Australia/Melbourne:20241204T183000
DTEND;TZID=Australia/Melbourne:20241204T183000
DTSTAMP:20260420T050305
CREATED:20241114T015013Z
LAST-MODIFIED:20241114T015013Z
UID:23036-1733337000-1733337000@carlosportsclub.com.au
SUMMARY:Xma Ham & Pork Raffle
DESCRIPTION:
URL:https://carlosportsclub.com.au/event/xma-ham-pork-raffle/2024-12-04/
CATEGORIES:What's On
ATTACH;FMTTYPE=image/jpeg:https://carlosportsclub.com.au/wp-content/uploads/2024/11/Christmas-Ham-Pork-Raffle-TVL-Carlingford-Bowling-Club.jpg
END:VEVENT
BEGIN:VEVENT
DTSTART;TZID=Australia/Melbourne:20241215T130000
DTEND;TZID=Australia/Melbourne:20241215T163000
DTSTAMP:20260420T050305
CREATED:20241206T020536Z
LAST-MODIFIED:20241206T020621Z
UID:23105-1734267600-1734280200@carlosportsclub.com.au
SUMMARY:Dominique Maurice
DESCRIPTION:
URL:https://carlosportsclub.com.au/event/dominique-maurice/
CATEGORIES:What's On
ATTACH;FMTTYPE=image/jpeg:https://carlosportsclub.com.au/wp-content/uploads/2024/12/15-December-Sunday-Entertainment-Merilyn-Steele-TVL-Carlingford-Bowling-Club-1.jpg
END:VEVENT
BEGIN:VEVENT
DTSTART;TZID=Australia/Melbourne:20250119T130000
DTEND;TZID=Australia/Melbourne:20250119T163000
DTSTAMP:20260420T050305
CREATED:20230830T031652Z
LAST-MODIFIED:20250105T230445Z
UID:21130-1737291600-1737304200@carlosportsclub.com.au
SUMMARY:Dora D
DESCRIPTION:
URL:https://carlosportsclub.com.au/event/dora-d-3/
CATEGORIES:What's On
ATTACH;FMTTYPE=image/jpeg:https://carlosportsclub.com.au/wp-content/uploads/2023/08/January-19-Sunday-Entertainment-Dora-D-TVL-Carlo-Sports-Club-1.jpg
END:VEVENT
BEGIN:VEVENT
DTSTART;TZID=Australia/Melbourne:20250223T130000
DTEND;TZID=Australia/Melbourne:20250223T163000
DTSTAMP:20260420T050305
CREATED:20240624T021124Z
LAST-MODIFIED:20250128T010304Z
UID:22500-1740315600-1740328200@carlosportsclub.com.au
SUMMARY:Queeny Stafford
DESCRIPTION:
URL:https://carlosportsclub.com.au/event/queeny-stafford-2/
CATEGORIES:What's On
ATTACH;FMTTYPE=image/jpeg:https://carlosportsclub.com.au/wp-content/uploads/2024/06/Sunday-Entertainment-Queeny-Stafford-TVL-Carlingford-Bowling-Club.jpg
END:VEVENT
BEGIN:VEVENT
DTSTART;VALUE=DATE:20250302
DTEND;VALUE=DATE:20250303
DTSTAMP:20260420T050305
CREATED:20250221T025529Z
LAST-MODIFIED:20250221T025529Z
UID:23432-1740873600-1740959999@carlosportsclub.com.au
SUMMARY:NRL Footy Tipping Competition 2025
DESCRIPTION:
URL:https://carlosportsclub.com.au/event/nrl-footy-tipping-competition-2025/
CATEGORIES:What's On
ATTACH;FMTTYPE=image/jpeg:https://carlosportsclub.com.au/wp-content/uploads/2025/02/NRL-Footy-Tipping-Competition-2025-TVL-Carlingford-Bowling-Club-1.jpg
END:VEVENT
BEGIN:VEVENT
DTSTART;TZID=Australia/Melbourne:20250302T103000
DTEND;TZID=Australia/Melbourne:20250302T180000
DTSTAMP:20260420T050305
CREATED:20250225T040654Z
LAST-MODIFIED:20250227T010906Z
UID:23456-1740911400-1740938400@carlosportsclub.com.au
SUMMARY:NRL Vegas 2025
DESCRIPTION:
URL:https://carlosportsclub.com.au/event/nrl-vegas-2025/
CATEGORIES:What's On
ATTACH;FMTTYPE=image/jpeg:https://carlosportsclub.com.au/wp-content/uploads/2025/02/NRL-Vegas-2025-TVL-Carlingford-Bowling-Club-1.jpg
END:VEVENT
BEGIN:VEVENT
DTSTART;TZID=Australia/Melbourne:20250323T130000
DTEND;TZID=Australia/Melbourne:20250323T163000
DTSTAMP:20260420T050305
CREATED:20240820T004005Z
LAST-MODIFIED:20250228T032526Z
UID:22725-1742734800-1742747400@carlosportsclub.com.au
SUMMARY:Tim Pringle
DESCRIPTION:
URL:https://carlosportsclub.com.au/event/tim-pringle/
CATEGORIES:What's On
ATTACH;FMTTYPE=image/jpeg:https://carlosportsclub.com.au/wp-content/uploads/2024/08/March-23rd-Sunday-Free-Live-Entertaiment-TVL-Carlingford-Bowling-Club.jpg
END:VEVENT
BEGIN:VEVENT
DTSTART;TZID=Australia/Melbourne:20250427T130000
DTEND;TZID=Australia/Melbourne:20250427T163000
DTSTAMP:20260420T050305
CREATED:20250316T233248Z
LAST-MODIFIED:20250317T000436Z
UID:23699-1745758800-1745771400@carlosportsclub.com.au
SUMMARY:Michael Banning
DESCRIPTION:
URL:https://carlosportsclub.com.au/event/michael-banning/
CATEGORIES:What's On
ATTACH;FMTTYPE=image/jpeg:https://carlosportsclub.com.au/wp-content/uploads/2025/03/April-27-Sunday-Free-Live-Entertaiment-TVL-Carlingford-Bowling-Club.jpg
END:VEVENT
END:VCALENDAR