BEGIN:VCALENDAR
VERSION:2.0
PRODID:-//Carlo - ECPv4.9.13//NONSGML v1.0//EN
CALSCALE:GREGORIAN
METHOD:PUBLISH
X-WR-CALNAME:Carlo
X-ORIGINAL-URL:https://carlosportsclub.com.au
X-WR-CALDESC:Events for Carlo
BEGIN:VTIMEZONE
TZID:Europe/Paris
BEGIN:DAYLIGHT
TZOFFSETFROM:+0100
TZOFFSETTO:+0200
TZNAME:CEST
DTSTART:20200329T010000
END:DAYLIGHT
BEGIN:STANDARD
TZOFFSETFROM:+0200
TZOFFSETTO:+0100
TZNAME:CET
DTSTART:20201025T010000
END:STANDARD
TZID:Australia/Sydney
BEGIN:STANDARD
TZOFFSETFROM:+1100
TZOFFSETTO:+1000
TZNAME:AEST
DTSTART:20200404T160000
END:STANDARD
BEGIN:DAYLIGHT
TZOFFSETFROM:+1000
TZOFFSETTO:+1100
TZNAME:AEDT
DTSTART:20201003T160000
END:DAYLIGHT
BEGIN:STANDARD
TZOFFSETFROM:+1100
TZOFFSETTO:+1000
TZNAME:AEST
DTSTART:20210403T160000
END:STANDARD
BEGIN:DAYLIGHT
TZOFFSETFROM:+1000
TZOFFSETTO:+1100
TZNAME:AEDT
DTSTART:20211002T160000
END:DAYLIGHT
BEGIN:STANDARD
TZOFFSETFROM:+1100
TZOFFSETTO:+1000
TZNAME:AEST
DTSTART:20220402T160000
END:STANDARD
BEGIN:DAYLIGHT
TZOFFSETFROM:+1000
TZOFFSETTO:+1100
TZNAME:AEDT
DTSTART:20221001T160000
END:DAYLIGHT
BEGIN:STANDARD
TZOFFSETFROM:+1100
TZOFFSETTO:+1000
TZNAME:AEST
DTSTART:20230401T160000
END:STANDARD
BEGIN:DAYLIGHT
TZOFFSETFROM:+1000
TZOFFSETTO:+1100
TZNAME:AEDT
DTSTART:20230930T160000
END:DAYLIGHT
BEGIN:STANDARD
TZOFFSETFROM:+1100
TZOFFSETTO:+1000
TZNAME:AEST
DTSTART:20240406T160000
END:STANDARD
BEGIN:DAYLIGHT
TZOFFSETFROM:+1000
TZOFFSETTO:+1100
TZNAME:AEDT
DTSTART:20241005T160000
END:DAYLIGHT
END:VTIMEZONE
BEGIN:VEVENT
DTSTART;TZID=Europe/Paris:20200228T190000
DTEND;TZID=Europe/Paris:20200228T220000
DTSTAMP:20200228T073628
CREATED:20181105T231805Z
LAST-MODIFIED:20181105T231805Z
UID:7626-1582916400-1582927200@carlosportsclub.com.au
SUMMARY:Poker
DESCRIPTION:New Players are always welcome! \nJoin us in Carlo\, every Wednesday on 6pm\, Friday on 1pm and 6pm. \n$350 Prize Pool – Wednesday\n$350 Prize Pool – Friday Day\n$1000 Prize Pool – Friday Night \nOur schedule is: \n\n\n\nWednesday\nReg: 6pm | Start: 7pm\n$8.00 Entry – 1st $200\n$350 GTD PRIZE POOL\n\n\nFriday – Day\nReg: 1pm | Start: 2pm\nFREE ENTRY – 1st $200\n$350 GTD PRIZE POOL\n\n\nFriday – Night\nReg: 6pm | Start: 7pm\n$20.00 Entry – 1st $200\n$1000 GTD PRIZE POOL\n\n\n\n
URL:https://carlosportsclub.com.au/event/poker/2020-02-28/
CATEGORIES:Carlo Events,Featured Carlo
ATTACH;FMTTYPE=image/jpeg:https://carlosportsclub.com.au/wp-content/uploads/2017/02/Poker.jpg
END:VEVENT
BEGIN:VEVENT
DTSTART;TZID=Australia/Sydney:20200228T193000
DTEND;TZID=Australia/Sydney:20200228T223000
DTSTAMP:20200228T073628
CREATED:20200217T235435Z
LAST-MODIFIED:20200217T235435Z
UID:8137-1582918200-1582929000@carlosportsclub.com.au
SUMMARY:Poker Fridays
DESCRIPTION:Free Roll Friday Nights \n  \nRego: 6:30pm \nStart: 7:30pm \n  \nBuy-In – FREE! \n
URL:https://carlosportsclub.com.au/event/poker-fridays/2020-02-28/
CATEGORIES:Denistone Events,Featured Denistone
ATTACH;FMTTYPE=image/jpeg:https://carlosportsclub.com.au/wp-content/uploads/2020/02/Poker-Fridays.jpg
END:VEVENT
BEGIN:VEVENT
DTSTART;TZID=Europe/Paris:20200228T200000
DTEND;TZID=Europe/Paris:20200228T210000
DTSTAMP:20200228T073628
CREATED:20181105T230348Z
LAST-MODIFIED:20181105T230348Z
UID:7625-1582920000-1582923600@carlosportsclub.com.au
SUMMARY:Lucky Wheel
DESCRIPTION:Every Friday Night \nUp to $8\,000 in cash to be won every Friday night! \nSwipe your membership card at the Rewards terminal from 6.00pm – 9.30pm every Friday night for your chance to win between $50 and $1000 cash on the Lucky Wheel. \nEight draws to take place every 15 minutes from 8pm. \nTerms & Conditions Apply. LTPM/17/02289. \n
URL:https://carlosportsclub.com.au/event/lucky-wheel/2020-02-28/
CATEGORIES:Carlo Events
ATTACH;FMTTYPE=image/jpeg:https://carlosportsclub.com.au/wp-content/uploads/2018/07/Lucky-Wheel.jpg
END:VEVENT
BEGIN:VEVENT
DTSTART;TZID=Europe/Paris:20200229T120000
DTEND;TZID=Europe/Paris:20200229T143000
DTSTAMP:20200228T073628
CREATED:20190321T041816Z
LAST-MODIFIED:20200214T030515Z
UID:7629-1582977600-1582986600@carlosportsclub.com.au
SUMMARY:Men's Bowls
DESCRIPTION:Wednesday\nfrom 11:30pm Entry Fee: $10.00\nEntry via the clubs notice board or Phone on the day between 9.30am to 10.30am to enter \n\nSaturday\nfrom 12:45pm Entry Fee: $10.00\nEntry via the clubs notice board or Phone on the day between 10.30am to 11.30am to enter \n
URL:https://carlosportsclub.com.au/event/mens-bowls-2/2020-02-29/
CATEGORIES:Denistone Events,Featured Denistone
ATTACH;FMTTYPE=image/jpeg:https://carlosportsclub.com.au/wp-content/uploads/2019/03/Mens-Bowls.jpg
END:VEVENT
BEGIN:VEVENT
DTSTART;TZID=Europe/Paris:20200229T170000
DTEND;TZID=Europe/Paris:20200229T173000
DTSTAMP:20200228T073628
CREATED:20190319T051225Z
LAST-MODIFIED:20190319T051225Z
UID:7628-1582995600-1582997400@carlosportsclub.com.au
SUMMARY:Seafood Raffle Saturdays (Men’s Bowls)
DESCRIPTION:Tickets on Sale 3.30\nDrawn 5pm \n1 x seafood platter\n1 x Prawn Platter \n
URL:https://carlosportsclub.com.au/event/seafood-raffle-saturdays-mens-bowls/2020-02-29/
CATEGORIES:Denistone Events,Featured Denistone
ATTACH;FMTTYPE=image/jpeg:https://carlosportsclub.com.au/wp-content/uploads/2019/03/Seafood-Raffle.jpg
END:VEVENT
BEGIN:VEVENT
DTSTART;VALUE=DATE:20200303
DTEND;VALUE=DATE:20200304
DTSTAMP:20200228T073628
CREATED:20181105T232044Z
LAST-MODIFIED:20181105T232044Z
UID:7678-1583193600-1583279999@carlosportsclub.com.au
SUMMARY:Bingo
DESCRIPTION:Play Bingo at Carlingford Sports & Recreational Club every Tuesday and Thursday. \n
URL:https://carlosportsclub.com.au/event/bingo/2020-03-03/
CATEGORIES:Carlo Events
ATTACH;FMTTYPE=image/jpeg:https://carlosportsclub.com.au/wp-content/uploads/2016/12/bingo.jpg
END:VEVENT
BEGIN:VEVENT
DTSTART;TZID=Europe/Paris:20200303T093000
DTEND;TZID=Europe/Paris:20200303T233000
DTSTAMP:20200228T073628
CREATED:20190319T051516Z
LAST-MODIFIED:20190319T051516Z
UID:7677-1583227800-1583278200@carlosportsclub.com.au
SUMMARY:Ladies Bowls
DESCRIPTION:
URL:https://carlosportsclub.com.au/event/ladies-bowls/2020-03-03/
CATEGORIES:Denistone Events,Featured Denistone
ATTACH;FMTTYPE=image/jpeg:https://carlosportsclub.com.au/wp-content/uploads/2019/03/Ladies-Bowls.jpg
END:VEVENT
BEGIN:VEVENT
DTSTART;TZID=Australia/Sydney:20200303T110000
DTEND;TZID=Australia/Sydney:20200303T140000
DTSTAMP:20200228T073628
CREATED:20200217T235053Z
LAST-MODIFIED:20200217T235053Z
UID:8126-1583233200-1583244000@carlosportsclub.com.au
SUMMARY:Greens Bistro
DESCRIPTION:Open Tuesday to Sunday 11 – 2pm for lunch and \n5pm to 8.30pm for Dinner time \nSpecials start at $11.00 which includes a soft drink \n  \nFor more information click here \n
URL:https://carlosportsclub.com.au/event/greens-bistro/2020-03-03/
CATEGORIES:Denistone Events,Featured Denistone
ATTACH;FMTTYPE=image/jpeg:https://carlosportsclub.com.au/wp-content/uploads/2020/02/Greens-Bistro.jpg
END:VEVENT
BEGIN:VEVENT
DTSTART;TZID=Australia/Sydney:20200303T160000
DTEND;TZID=Australia/Sydney:20200303T180000
DTSTAMP:20200228T073628
CREATED:20200204T051101Z
LAST-MODIFIED:20200204T051101Z
UID:8113-1583251200-1583258400@carlosportsclub.com.au
SUMMARY:Happy Hour
DESCRIPTION:4pm to 6pm \n
URL:https://carlosportsclub.com.au/event/happy-hour/2020-03-03/
CATEGORIES:Denistone Events,Featured Denistone
ATTACH;FMTTYPE=image/jpeg:https://carlosportsclub.com.au/wp-content/uploads/2020/02/denistone_HappyHour_POS.jpg
END:VEVENT
BEGIN:VEVENT
DTSTART;TZID=Australia/Sydney:20200304T193000
DTEND;TZID=Australia/Sydney:20200304T213000
DTSTAMP:20200228T073628
CREATED:20191122T015610Z
LAST-MODIFIED:20200217T232141Z
UID:7679-1583350200-1583357400@carlosportsclub.com.au
SUMMARY:Trivia
DESCRIPTION:Wednesdays at 7:30pm \nRego 7pm Quiz commences at 7:30pm Free to Play! \nPrizes for the top 3 places Win free drinks weekly \n
URL:https://carlosportsclub.com.au/event/trivia/2020-03-04/
CATEGORIES:Denistone Events,Featured Denistone
ATTACH;FMTTYPE=image/jpeg:https://carlosportsclub.com.au/wp-content/uploads/2019/11/Game-Show_Quizza.jpg
END:VEVENT
BEGIN:VEVENT
DTSTART;TZID=Europe/Paris:20200305T193000
DTEND;TZID=Europe/Paris:20200305T203000
DTSTAMP:20200228T073628
CREATED:20181105T231555Z
LAST-MODIFIED:20200204T045253Z
UID:7695-1583436600-1583440200@carlosportsclub.com.au
SUMMARY:Monster Meat Raffle
DESCRIPTION:Thursday Night Raffle tickets on sale at 6:30pm Drawn at 7:30pm \n
URL:https://carlosportsclub.com.au/event/monster-meat-raffle/2020-03-05/
CATEGORIES:Denistone Events
ATTACH;FMTTYPE=image/jpeg:https://carlosportsclub.com.au/wp-content/uploads/2018/11/denistone-monster-raffle.jpg
END:VEVENT
BEGIN:VEVENT
DTSTART;TZID=Europe/Paris:20200314T190000
DTEND;TZID=Europe/Paris:20200314T220000
DTSTAMP:20200228T073628
CREATED:20181105T230724Z
LAST-MODIFIED:20181105T230724Z
UID:7762-1584212400-1584223200@carlosportsclub.com.au
SUMMARY:Free Live Entertainment
DESCRIPTION:Every 2nd Saturday of the Month come and unwind while listening to some great homegrown artist live on stage \n
URL:https://carlosportsclub.com.au/event/free-live-entertainment/2020-03-14/
CATEGORIES:Denistone Events
ATTACH;FMTTYPE=image/jpeg:https://carlosportsclub.com.au/wp-content/uploads/2018/04/Live-Entertainment-Post.jpg
END:VEVENT
BEGIN:VEVENT
DTSTART;TZID=Australia/Sydney:20200321T193000
DTEND;TZID=Australia/Sydney:20200321T223000
DTSTAMP:20200228T073628
CREATED:20200204T051608Z
LAST-MODIFIED:20200204T051608Z
UID:8121-1584819000-1584829800@carlosportsclub.com.au
SUMMARY:Song on Stage
DESCRIPTION:Songwriters/Open Mic/Variety Show\, \nThird Saturday of every month from 15th February from 7:30-10:30pm – FREE ENTRY- The Greatest Variety Show Unearthed \n
URL:https://carlosportsclub.com.au/event/song-on-stage-2/2020-03-21/
CATEGORIES:Denistone Events,Featured Denistone
ATTACH;FMTTYPE=image/jpeg:https://carlosportsclub.com.au/wp-content/uploads/2020/02/songonstage-15Feb-webtile.jpg
END:VEVENT
BEGIN:VEVENT
DTSTART;VALUE=DATE:20201101
DTEND;VALUE=DATE:20201102
DTSTAMP:20200228T073628
CREATED:20181106T023618Z
LAST-MODIFIED:20181106T034156Z
UID:6448-1604188800-1604275199@carlosportsclub.com.au
SUMMARY:Barefoot Bowls
DESCRIPTION:Lawn Bowls has been seen has an older-persons sport. Not any longer… \nHere at Carlo Bowlo we can cater for Hen’s and Buck’s Parties\, Christmas Parties\, Birthday Celebrations\, Team Building and Corporate Events. \n
URL:https://carlosportsclub.com.au/event/barefoot-bowls/
CATEGORIES:Carlo Events
ATTACH;FMTTYPE=image/jpeg:https://carlosportsclub.com.au/wp-content/uploads/2016/12/barefoot-bowls.jpg
END:VEVENT
BEGIN:VEVENT
DTSTART;VALUE=DATE:20241206
DTEND;VALUE=DATE:20241207
DTSTAMP:20200228T073628
CREATED:20191205T040052Z
LAST-MODIFIED:20191205T223211Z
UID:7557-1733443200-1733529599@carlosportsclub.com.au
SUMMARY:5 for $15
DESCRIPTION:Choice of 5 lunch specials \nCost $15 includes a drink voucher Redeemable at the bar. \n
URL:https://carlosportsclub.com.au/event/5-for-15/
CATEGORIES:Carlo Events,Featured Carlo
ATTACH;FMTTYPE=image/jpeg:https://carlosportsclub.com.au/wp-content/uploads/2019/12/5for15_Deal.jpg
END:VEVENT
END:VCALENDAR